BEGIN:VCALENDAR
VERSION:2.0
PRODID:-//AFABBSC - ECPv6.15.17//NONSGML v1.0//EN
CALSCALE:GREGORIAN
METHOD:PUBLISH
X-ORIGINAL-URL:https://afabbsc.org.br
X-WR-CALDESC:Eventos para AFABBSC
REFRESH-INTERVAL;VALUE=DURATION:PT1H
X-Robots-Tag:noindex
X-PUBLISHED-TTL:PT1H
BEGIN:VTIMEZONE
TZID:UTC
BEGIN:STANDARD
TZOFFSETFROM:+0000
TZOFFSETTO:+0000
TZNAME:UTC
DTSTART:20170101T000000
END:STANDARD
END:VTIMEZONE
BEGIN:VEVENT
DTSTART;TZID=UTC:20181121T153000
DTEND;TZID=UTC:20181121T170000
DTSTAMP:20260425T140201
CREATED:20181109T181632Z
LAST-MODIFIED:20181128T162952Z
UID:6868-1542814200-1542819600@afabbsc.org.br
SUMMARY:Aniversariantes do mês de Novembro – 2018.
DESCRIPTION:Parabéns aniversariantes do mês de Novembro/2018. Convidamos os aniversariantes do mês para o Café Amigável do dia 21/11 às 15h30\, na Sede da AFABB/SC – Av. Hercílio Luz 639. \n 
URL:https://afabbsc.org.br/eventos/aniversariantes-do-mes-de-novembro-2018/
LOCATION:Local: Sede AFABB/SC\, Av. Hercílio Luz 639\, Florianópolis\, SC\, Brasil
END:VEVENT
BEGIN:VEVENT
DTSTART;TZID=UTC:20181212T203000
DTEND;TZID=UTC:20181212T233000
DTSTAMP:20260425T140201
CREATED:20181203T181335Z
LAST-MODIFIED:20181203T181454Z
UID:6996-1544646600-1544657400@afabbsc.org.br
SUMMARY:Jantar Dançante 2018
DESCRIPTION:
URL:https://afabbsc.org.br/eventos/jantar-dancante-2018/
LOCATION:SC
ATTACH;FMTTYPE=image/jpeg:https://afabbsc.org.br/wp-content/uploads/2018/12/WhatsApp-Image-2018-11-28-at-09.25.53.jpeg
END:VEVENT
BEGIN:VEVENT
DTSTART;TZID=UTC:20190220T153000
DTEND;TZID=UTC:20190220T173000
DTSTAMP:20260425T140201
CREATED:20190213T161052Z
LAST-MODIFIED:20190213T161649Z
UID:7131-1550676600-1550683800@afabbsc.org.br
SUMMARY:Café Amigável
DESCRIPTION:Café Amigável aos aniversariantes dos meses de Dezembro\, Janeiro e Fevereiro.
URL:https://afabbsc.org.br/eventos/cafe-amigavel-2/
LOCATION:SC
CATEGORIES:Calendario Afabbsc
END:VEVENT
BEGIN:VEVENT
DTSTART;TZID=UTC:20190314T143000
DTEND;TZID=UTC:20190314T163000
DTSTAMP:20260425T140201
CREATED:20190228T221728Z
LAST-MODIFIED:20190228T221728Z
UID:7148-1552573800-1552581000@afabbsc.org.br
SUMMARY:Dia da Mulher: Sentidos e Sentimentos
DESCRIPTION:Roda de conversa com profissionais da CASSI
URL:https://afabbsc.org.br/eventos/dia-da-mulher-sentidos-e-sentimentos/
LOCATION:SC
ATTACH;FMTTYPE=image/jpeg:https://afabbsc.org.br/wp-content/uploads/2019/02/image002.jpg
END:VEVENT
BEGIN:VEVENT
DTSTART;TZID=UTC:20240925T153000
DTEND;TZID=UTC:20240925T170000
DTSTAMP:20260425T140201
CREATED:20240918T191524Z
LAST-MODIFIED:20240918T191524Z
UID:8328-1727278200-1727283600@afabbsc.org.br
SUMMARY:Café Amigável - aniversariantes de agosto e setembro
DESCRIPTION:
URL:https://afabbsc.org.br/eventos/cafe-amigavel-aniversariantes-de-agosto-e-setembro/
LOCATION:Local: Sede AFABB/SC\, Av. Hercílio Luz 639\, Florianópolis\, SC\, Brasil
END:VEVENT
END:VCALENDAR